BEGIN:VCALENDAR
VERSION:2.0
PRODID:-//ChamberMaster//Event Calendar 2.0//EN
METHOD:PUBLISH
X-PUBLISHED-TTL:P3D
REFRESH-INTERVAL:P3D
CALSCALE:GREGORIAN
BEGIN:VEVENT
DTSTART:20150421T130000Z
DTEND:20150421T163000Z
X-MICROSOFT-CDO-ALLDAYEVENT:FALSE
SUMMARY:Candidates Forum
DESCRIPTION:Live streaming video by Ustream
X-ALT-DESC;FMTTYPE=text/html:<iframe allowfullscreen="" frameborder="no" height="437" src="http://www.ustream.tv/embed/16296152?wmode=direct" style="border: 0 none transparent\;" webkitallowfullscreen="" width="720"></iframe><br />\n<a href="http://www.ustream.tv/" style="padding: 2px 0px 4px\; width: 400px\; background: #ffffff\; display: block\; color: #000000\; font-weight: normal\; font-size: 10px\; text-decoration: underline\; text-align: center\;" target="_blank">Live streaming video by Ustream</a>
LOCATION:Holiday Inn 3777 N. Expressway
UID:e.2211.3425
SEQUENCE:3
DTSTAMP:20260421T055749Z
URL:http://business.brownsvillechamber.com/events/details/candidates-forum-04-21-2015-3425
END:VEVENT

END:VCALENDAR
