BEGIN:VCALENDAR
VERSION:2.0
PRODID:-//ChamberMaster//Event Calendar 2.0//EN
METHOD:PUBLISH
X-PUBLISHED-TTL:P3D
REFRESH-INTERVAL:P3D
CALSCALE:GREGORIAN
BEGIN:VEVENT
DTSTART:20150517T200000Z
DTEND:20150518T010000Z
X-MICROSOFT-CDO-ALLDAYEVENT:FALSE
SUMMARY:Boot Scootin' Benefit
DESCRIPTION:Put on your boots\, Cowboy! The Moody Clinic is celebrating 63 years of providing therapy services to special needs children in our community. You won?t want to miss this family fun event. There will be something for the entire family: rodeo style events\, line dancing\, face painting & auctions. All proceeds will help provide therapy for children in need of physical\, occupational or speech/language therapy. Children who receive these services become more independent by learning to crawl\, walk\, and speak.
X-ALT-DESC;FMTTYPE=text/html:Put on your boots\, Cowboy! The Moody Clinic is celebrating 63 years of providing therapy services to special needs children in our community. You won?t want to miss this family fun event. There will be something for the entire family: rodeo style events\, line dancing\, face painting &amp\; auctions. All proceeds will help provide therapy for children in need of physical\, occupational or speech/language therapy. Children who receive these services become more independent by learning to crawl\, walk\, and speak.
LOCATION:Winks Saloon\, Grill\, & Roping Arena. 10700 FM 1421\, Brownsville\, TX 78520
UID:e.2211.3399
SEQUENCE:3
DTSTAMP:20260421T065831Z
URL:http://business.brownsvillechamber.com/events/details/boot-scootin-benefit-05-17-2015-3399
END:VEVENT

END:VCALENDAR
