BEGIN:VCALENDAR
VERSION:2.0
PRODID:-//ChamberMaster//Event Calendar 2.0//EN
METHOD:PUBLISH
X-PUBLISHED-TTL:P3D
REFRESH-INTERVAL:P3D
CALSCALE:GREGORIAN
BEGIN:VEVENT
DTSTART:20150218T180000Z
DTEND:20150218T180000Z
X-MICROSOFT-CDO-ALLDAYEVENT:FALSE
SUMMARY:Ash Wednesday
DESCRIPTION:What: Ash Wednesday   February 18\n\n \n\nWhen: Mass: 12 p.m.\n\n            Confessions: 11:30 p.m.\n\n \n\nWhere: El Gran Sal n\, Main Building\n\n           \n\nBackground: Bishop Daniel E. Flores and Fr. Jesus Paredes will celebrate mass with the imposition of ashes. Students\, faculty and staff are welcome\n\nFor more information\, call Catholic Campus Ministry at 956-541-9697.
X-ALT-DESC;FMTTYPE=text/html:<p class="x_MsoNormal" style="margin: 0in 0in 0.0001pt\; font-size: 11pt\; font-family: Calibri\, sans-serif\; color: rgb(33\, 33\, 33)\; line-height: normal\;"><b><u><span style="font-size: 12pt\; font-family: 'Times New Roman'\, serif\;">What: Ash Wednesday &ndash\; February 18</span></u></b></p>\n\n<p class="x_MsoNormal" style="margin: 0in 0in 0.0001pt\; font-size: 11pt\; font-family: Calibri\, sans-serif\; color: rgb(33\, 33\, 33)\; line-height: normal\;"><b><span style="font-size: 12pt\; font-family: 'Times New Roman'\, serif\;">&nbsp\;</span></b></p>\n\n<p class="x_MsoNormal" style="margin: 0in 0in 0.0001pt\; font-size: 11pt\; font-family: Calibri\, sans-serif\; color: rgb(33\, 33\, 33)\; line-height: normal\; background-image: initial\; background-attachment: initial\; background-size: initial\; background-origin: initial\; background-clip: initial\; background-position: initial\; background-repeat: initial\;"><b><span style="font-size: 12pt\; font-family: 'Times New Roman'\, serif\;">When:&nbsp\;Mass: 12 p.m.</span></b></p>\n\n<p class="x_MsoNormal" style="margin: 0in 0in 0.0001pt\; font-size: 11pt\; font-family: Calibri\, sans-serif\; color: rgb(33\, 33\, 33)\; line-height: normal\; background-image: initial\; background-attachment: initial\; background-size: initial\; background-origin: initial\; background-clip: initial\; background-position: initial\; background-repeat: initial\;"><b><span style="font-size: 12pt\; font-family: 'Times New Roman'\, serif\;">&nbsp\;&nbsp\;&nbsp\;&nbsp\;&nbsp\;&nbsp\;&nbsp\;&nbsp\;&nbsp\;&nbsp\;&nbsp\; Confessions: 11:30 p.m.</span></b></p>\n\n<p class="x_MsoNormal" style="margin: 0in 0in 0.0001pt\; font-size: 11pt\; font-family: Calibri\, sans-serif\; color: rgb(33\, 33\, 33)\; line-height: normal\; background-image: initial\; background-attachment: initial\; background-size: initial\; background-origin: initial\; background-clip: initial\; background-position: initial\; background-repeat: initial\;"><span style="font-size: 12pt\; font-family: 'Times New Roman'\, serif\;">&nbsp\;</span></p>\n\n<p class="x_MsoNormal" style="margin: 0in 0in 0.0001pt\; font-size: 11pt\; font-family: Calibri\, sans-serif\; color: rgb(33\, 33\, 33)\; line-height: normal\;"><b><span style="font-size: 12pt\; font-family: 'Times New Roman'\, serif\;">Where: El Gran Sal&oacute\;n\, Main Building</span></b></p>\n\n<p class="x_MsoNormal" style="margin: 0in 0in 0.0001pt\; font-size: 11pt\; font-family: Calibri\, sans-serif\; color: rgb(33\, 33\, 33)\; line-height: normal\;"><b><span style="font-size: 12pt\; font-family: 'Times New Roman'\, serif\;">&nbsp\;&nbsp\;&nbsp\;&nbsp\;&nbsp\;&nbsp\;&nbsp\;&nbsp\;&nbsp\;&nbsp\;&nbsp\;</span></b></p>\n\n<p class="x_MsoNormal" style="margin: 0in 0in 0.0001pt\; font-size: 11pt\; font-family: Calibri\, sans-serif\; color: rgb(33\, 33\, 33)\; line-height: normal\; background-image: initial\; background-attachment: initial\; background-size: initial\; background-origin: initial\; background-clip: initial\; background-position: initial\; background-repeat: initial\;"><b><span style="font-size: 12pt\; font-family: 'Times New Roman'\, serif\;">Background:&nbsp\;</span></b><span style="font-size: 12pt\; font-family: 'Times New Roman'\, serif\;">Bishop Daniel E. Flores and Fr. Jesus Paredes will celebrate mass with the imposition of ashes. Students\, faculty and staff are welcome</span></p>\n\n<p style="margin: 0in 0in 0.0001pt\; font-size: 12pt\; font-family: 'Times New Roman'\, serif\; color: rgb(33\, 33\, 33)\; line-height: normal\; background-image: initial\; background-attachment: initial\; background-size: initial\; background-origin: initial\; background-clip: initial\; background-position: initial\; background-repeat: initial\;">For more information\, call&nbsp\;<span style="color: black\;">Catholic&nbsp\;Campus Ministry at 956-541-9697.</span></p>\n
LOCATION:
UID:e.2211.3386
SEQUENCE:3
DTSTAMP:20260421T220237Z
URL:http://business.brownsvillechamber.com/events/details/ash-wednesday-02-18-2015-3386
END:VEVENT

END:VCALENDAR
